BEGIN:VCALENDAR
VERSION:2.0
PRODID:-//Kunstbahnhof Wörthersee - ECPv6.2.2//NONSGML v1.0//EN
CALSCALE:GREGORIAN
METHOD:PUBLISH
X-WR-CALNAME:Kunstbahnhof Wörthersee
X-ORIGINAL-URL:https://www.kunstbahnhofwoerthersee.at
X-WR-CALDESC:Veranstaltungen für Kunstbahnhof Wörthersee
REFRESH-INTERVAL;VALUE=DURATION:PT1H
X-Robots-Tag:noindex
X-PUBLISHED-TTL:PT1H
BEGIN:VTIMEZONE
TZID:Europe/Paris
BEGIN:DAYLIGHT
TZOFFSETFROM:+0100
TZOFFSETTO:+0200
TZNAME:CEST
DTSTART:20230326T010000
END:DAYLIGHT
BEGIN:STANDARD
TZOFFSETFROM:+0200
TZOFFSETTO:+0100
TZNAME:CET
DTSTART:20231029T010000
END:STANDARD
END:VTIMEZONE
BEGIN:VEVENT
DTSTART;VALUE=DATE:20230316
DTEND;VALUE=DATE:20230318
DTSTAMP:20260425T211222
CREATED:20230216T082300Z
LAST-MODIFIED:20230314T111920Z
UID:3768-1678939200-1679025599@www.kunstbahnhofwoerthersee.at
SUMMARY:Workshop für Frühlings- und Osterdekoration aus Papier und Büchern
DESCRIPTION:Papiertage sind Tage der Achtsamkeit – gönnen Sie sich ein kreatives Abenteuer der Schönheit und Nachhaltigkeit\nWorkshop für Frühlings- und Osterdekoration aus Papier und Büchern \nJeder Mensch ist ein Papiergestalter. Schon als Kinder falteten wir Flieger\, Hüte oder Schiﬀchen. Bringen wir diese Freude des Gestaltens mit Papier wieder in unser Leben. Wunderschöne Blüten\, Schalen\, Kränze\, Osternester mit Eiern und Hasen oder Hänger für den Osterstrauß lassen sich aus alten Büchern\, dem Restpapier\, Küchenpapier- und Klopapierrollen\, alten Zeitungen\, Eierkartons und sonstigen Verpackungen herstellen. Staunen Sie\, was mit Papier alles möglich ist. \nMaterial\, das mitgebracht werden kann: alte Bücher\, Zeitungen oder Magazine\, Küchenpapier- und Klopapierrollen\, Restpapier jeder Art\, Klebstoﬀ\, Lineal\, Schere oder Cutter\, Schneideunterlage (wenn vorhanden) und gute Laune. Wer kein Papier mitbringt\, kann gegen den Unkostenbeitrag von 7 € eine Erna Wunder Papiertüte\, gefüllt mit Papier und Wundern\, erwerben und damit werken. \nKurs:\n16. März 2023 von 18:00 – 21:00\n27. März 2023 von 18:00 – 21:00 \nKurskosten: 48 € für einen Tag \nKursort: Kunstbahnhof Wörthersee\nBahnhofplatz 1 | Hausbahnsteig | 9220 Velden am Wörthersee \nGruppengröße:\nDer Kurs ﬁndet ab 4 Personen statt. Für Personen ab 7 Jahren geeignet. TeilnehmerInnen mehrerer Generationen – ab 7 Jahren bis 90+ – sind erwünscht. Wir lernen voneinander und miteinander\, daher sind auch Menschen mit Handicap willkommen. Wir freuen uns sehr\, wenn Kinder und Erwachsene gemeinsam werken. Daher sind die Papierkurse vom Alter her gemischt. \nAnmeldung bei: Sabine Wenske 0664.766 54 27\nArche Erna Wunder und Team Licht Projekt ©\nwww.ernawunder.com | arche@ernawunder.com
URL:https://www.kunstbahnhofwoerthersee.at/event/papier-workshop/
LOCATION:Kunstbahnhof Wörthersee WEST\, Bahnhofplatz | ÖBB-Hausbahnsteig WEST\, Velden am Wörthersee\, 9220\, Österreich
CATEGORIES:Öffentliche Veranstaltung
ATTACH;FMTTYPE=image/jpeg:https://www.kunstbahnhofwoerthersee.at/wp-content/uploads/ostern-bild_2-ostern_w.jpg
END:VEVENT
END:VCALENDAR