BEGIN:VCALENDAR
VERSION:2.0
PRODID:-//Kunstbahnhof Wörthersee - ECPv6.2.2//NONSGML v1.0//EN
CALSCALE:GREGORIAN
METHOD:PUBLISH
X-ORIGINAL-URL:https://www.kunstbahnhofwoerthersee.at
X-WR-CALDESC:Veranstaltungen für Kunstbahnhof Wörthersee
REFRESH-INTERVAL;VALUE=DURATION:PT1H
X-Robots-Tag:noindex
X-PUBLISHED-TTL:PT1H
BEGIN:VTIMEZONE
TZID:Europe/Paris
BEGIN:DAYLIGHT
TZOFFSETFROM:+0100
TZOFFSETTO:+0200
TZNAME:CEST
DTSTART:20230326T010000
END:DAYLIGHT
BEGIN:STANDARD
TZOFFSETFROM:+0200
TZOFFSETTO:+0100
TZNAME:CET
DTSTART:20231029T010000
END:STANDARD
END:VTIMEZONE
BEGIN:VEVENT
DTSTART;TZID=Europe/Paris:20230311T090000
DTEND;TZID=Europe/Paris:20230311T160000
DTSTAMP:20260425T211621
CREATED:20230215T094123Z
LAST-MODIFIED:20230307T083053Z
UID:3757-1678525200-1678550400@www.kunstbahnhofwoerthersee.at
SUMMARY:Workshop | Körper und Sexualität
DESCRIPTION:! Aus gesundheitlichen Gründen abgesagt – wir bitten um Verständnis !\nWorkshop zum Thema „Sexualpädagogische Begleitung“\nSprechen über den Körper und Sexualität\nWie kann sexuelle Aufklärung personen- und altersgerecht und auch mit Menschen mit Beeinträchtigung gelingen?\nUmgang mit sexualisierter Sprache und Pornokonsum\nSamstag\, 11. März 2023 von 9 bis 16 Uhr\nKunstbahnhof Wörthersee am Veldner Hausbahnsteig Ost \nWie passt unsere sexualisierte Gesellschaft mit unseren sexuellen Bildungskompetenzen zusammen? Was müssen Kinder und Jugendliche in welchem Alter wissen? Wie reagiert man auf neugierige Fragen? Wie kann man Gespräche altersgerecht gestalten und adäquat auf Fragen reagieren? Funktioniert Aufklärungsarbeit und sexualpädagogische Begleitung für Menschen mit Beeinträchtigung und Behinderung anders?\nAufklärung ist Menschenschutz! Denn obwohl es in unserer Gesellschaft mittlerweile zu allen erdenklichen Themen Informationen und Weiterbildungen gibt\, passieren immer noch viel zu viele unschöne Dinge. In diesem Seminar bekommen Sie Antworten und Werkzeuge um in Zukunft unaufgeregt und kompetent mit diesem Thema umzugehen.\nZielgruppe der Veranstaltung: Berufsgruppen\, welche mit Kindern\, Jugendlichen und Menschen mit Beeinträchtigung arbeiten\, sowie Eltern und Angehörige\nVortragende: Barbara Jäger-Schäfer\, Dipl. Sexualpädagogin und Coach für Kinder\, Jugendliche und Erwachsene \nKosten: 130.- Euro (mit Getränken und Snack)\nAnmeldung bei Birgit Bodlaj\, Mobil: 0680-1559745 oder Mail: birgit.bodlaj@yahoo.com\nDie Veranstaltung kann nach dem jeweiligen Fortbildungsgesetz angerechnet werden.
URL:https://www.kunstbahnhofwoerthersee.at/event/workshop-koerper-und-sexualitaet/
LOCATION:Kunstbahnhof Wörthersee OST\, Bahnhofplatz | ÖBB-Hausbahnsteig OST\, Velden am Wörthersee\, 9220\, Österreich
CATEGORIES:Öffentliche Veranstaltung
ATTACH;FMTTYPE=image/jpeg:https://www.kunstbahnhofwoerthersee.at/wp-content/uploads/Bild-Workshop-Birgit-Bodlaj-Banner-breit.jpg
END:VEVENT
END:VCALENDAR