BEGIN:VCALENDAR
VERSION:2.0
PRODID:-//Kunstbahnhof Wörthersee - ECPv6.2.2//NONSGML v1.0//EN
CALSCALE:GREGORIAN
METHOD:PUBLISH
X-WR-CALNAME:Kunstbahnhof Wörthersee
X-ORIGINAL-URL:https://www.kunstbahnhofwoerthersee.at
X-WR-CALDESC:Veranstaltungen für Kunstbahnhof Wörthersee
REFRESH-INTERVAL;VALUE=DURATION:PT1H
X-Robots-Tag:noindex
X-PUBLISHED-TTL:PT1H
BEGIN:VTIMEZONE
TZID:Europe/Paris
BEGIN:DAYLIGHT
TZOFFSETFROM:+0100
TZOFFSETTO:+0200
TZNAME:CEST
DTSTART:20230326T010000
END:DAYLIGHT
BEGIN:STANDARD
TZOFFSETFROM:+0200
TZOFFSETTO:+0100
TZNAME:CET
DTSTART:20231029T010000
END:STANDARD
END:VTIMEZONE
BEGIN:VEVENT
DTSTART;TZID=Europe/Paris:20230206T170000
DTEND;TZID=Europe/Paris:20230206T190000
DTSTAMP:20260425T225148
CREATED:20230206T163123Z
LAST-MODIFIED:20230206T163148Z
UID:3722-1675702800-1675710000@www.kunstbahnhofwoerthersee.at
SUMMARY:Workshop | Figuren im urbanen Raum
DESCRIPTION:Gruppe Urban Sketchers | Workshop mit Gerda Madl-Kren\nClub für Bild und Bildung\n6. Februar 2023 von 17 bis 19 Uhr
URL:https://www.kunstbahnhofwoerthersee.at/event/workshop-figur-im-urbanen-raum/
LOCATION:Kunstbahnhof Wörthersee OST\, Bahnhofplatz | ÖBB-Hausbahnsteig OST\, Velden am Wörthersee\, 9220\, Österreich
CATEGORIES:Nicht öffentliche Veranstaltung
ORGANIZER;CN="Club f%C3%BCr Bild und Bildung":MAILTO:bildundbildung@gmx.at
END:VEVENT
END:VCALENDAR