BEGIN:VCALENDAR
VERSION:2.0
PRODID:-//Kunstbahnhof Wörthersee - ECPv6.2.2//NONSGML v1.0//EN
CALSCALE:GREGORIAN
METHOD:PUBLISH
X-ORIGINAL-URL:https://www.kunstbahnhofwoerthersee.at
X-WR-CALDESC:Veranstaltungen für Kunstbahnhof Wörthersee
REFRESH-INTERVAL;VALUE=DURATION:PT1H
X-Robots-Tag:noindex
X-PUBLISHED-TTL:PT1H
BEGIN:VTIMEZONE
TZID:Europe/Paris
BEGIN:DAYLIGHT
TZOFFSETFROM:+0100
TZOFFSETTO:+0200
TZNAME:CEST
DTSTART:20230326T010000
END:DAYLIGHT
BEGIN:STANDARD
TZOFFSETFROM:+0200
TZOFFSETTO:+0100
TZNAME:CET
DTSTART:20231029T010000
END:STANDARD
END:VTIMEZONE
BEGIN:VEVENT
DTSTART;TZID=Europe/Paris:20230204T190000
DTEND;TZID=Europe/Paris:20230204T200000
DTSTAMP:20260425T063138
CREATED:20221213T104659Z
LAST-MODIFIED:20230119T173530Z
UID:3499-1675537200-1675540800@www.kunstbahnhofwoerthersee.at
SUMMARY:VADA Theater: DIE ABENDMAHLSGÄSTE Nattvardsgästerna
DESCRIPTION:Im Rahmen der Reihe „curated by_station“ am Veldner Hausbahnsteig verwandelt VADA Verein zur Anregung des dramatischen Appetits den Kunstbahnhof Wörthersee in eine kleine schwedische Dorfkirche. Die Zuseher*innen nehmen an einem Abendmahlsgottesdienst teil und erleben\, wie der vom Leben enttäuschte Pastor Tomas Ericsson seinen Glauben verliert. Dieser quälende innere Konflikt beschäftigt ihn so sehr\, dass er es verabsäumt\, dem selbstmordgefährdeten Fischer Jonas Trost zu spenden und Märta\, die Frau\, die Tomas aufrichtig liebt\, zu Tode kränkt. Ein Stück über den Egozentrismus religiösen Empfindens. \nDIE ABENDMAHLSGÄSTE | Nattvardsgästerna\nvon Ingmar Bergman\nSamstag\, 4. Februar 2023 um 19 Uhr\nReservierung empfohlen: 0664-9262926 oder office@kunstbahnhofwoerthersee.at\n(Eintritt: freier Wertschätzungsbeitrag) \nInszenierung\, Schauspiel\, Ausstattung: Yulia Izmaylova\, Kamran Gharabaghi\, Felix Strasser\, Florian Zambrano Moreno\nUnter Mitwirkung von: Jozej Sticker und Fräulein So.Else\nwww.vada.cc\nÜbersetzung: Renate Bleibtreu\, Hamburg\nRechte: www.ingmarbergman.se\nDie Übertragung des Aufführungsrechtes erfolgt in Übereinkunft mit Josef Weinberger Ltd.\, London in Zusammenarbeit mit der Ingmar Bergman Foundation. Bühnenvertrieb für Österreich: Josef Weinberger Wien\, Ges.m.b.H. \nDer Film mit Gunnar Björnstrand\, Ingrid Thulin\, Max von Sydow\, Gunnel Lindblom u.a. erschien im Februar 1962 – auf Deutsch unter dem Verleihtitel „Licht im Winter“. Das Werk wurde auch als Filmerzählung publiziert – auf Deutsch erstmals 1979.
URL:https://www.kunstbahnhofwoerthersee.at/event/vada-theater-die-abendmahlsgaeste-nattvardsgaesterna/
LOCATION:Kunstbahnhof Wörthersee OST\, Bahnhofplatz | ÖBB-Hausbahnsteig OST\, Velden am Wörthersee\, 9220\, Österreich
CATEGORIES:curated by_station,Öffentliche Veranstaltung
ATTACH;FMTTYPE=image/jpeg:https://www.kunstbahnhofwoerthersee.at/wp-content/uploads/VADA-Abendmahl-Sujet.jpg
ORGANIZER;CN="Kunstbahnhof W%C3%B6rthersee":MAILTO:office@kunstbahnhofwoerthersee.at
END:VEVENT
END:VCALENDAR