BEGIN:VCALENDAR
VERSION:2.0
PRODID:-//Kunstbahnhof Wörthersee - ECPv6.2.2//NONSGML v1.0//EN
CALSCALE:GREGORIAN
METHOD:PUBLISH
X-WR-CALNAME:Kunstbahnhof Wörthersee
X-ORIGINAL-URL:https://www.kunstbahnhofwoerthersee.at
X-WR-CALDESC:Veranstaltungen für Kunstbahnhof Wörthersee
REFRESH-INTERVAL;VALUE=DURATION:PT1H
X-Robots-Tag:noindex
X-PUBLISHED-TTL:PT1H
BEGIN:VTIMEZONE
TZID:Europe/Paris
BEGIN:DAYLIGHT
TZOFFSETFROM:+0100
TZOFFSETTO:+0200
TZNAME:CEST
DTSTART:20220327T010000
END:DAYLIGHT
BEGIN:STANDARD
TZOFFSETFROM:+0200
TZOFFSETTO:+0100
TZNAME:CET
DTSTART:20221030T010000
END:STANDARD
END:VTIMEZONE
BEGIN:VEVENT
DTSTART;VALUE=DATE:20221209
DTEND;VALUE=DATE:20221212
DTSTAMP:20260426T020219
CREATED:20220209T102357Z
LAST-MODIFIED:20221207T085028Z
UID:2844-1670558400-1670731199@www.kunstbahnhofwoerthersee.at
SUMMARY:Zweiteiliger Keramik-Workshop mit Sabine Modl-Sternig
DESCRIPTION:„Verschiedene Gestaltungstechniken mit Ton kennenlernen und ausprobieren. Taucht in die kreative Atmosphäre am Kunstbahnhof Wörthersee ein und genießt das Arbeiten in einer kleinen schöpferischen Runde! Vorkenntnisse sind nicht notwendig. Die Freude am Tun ist das Wichtigste.“ \nDer zweiteilige Workshop mit Sabine Modl Sternig (Keramik-Kunsthandwerkerin | Kreativtrainerin | Mal- u. Gestaltungstherapeutin) findet immer am Samstag\, wahlweise am Vormittag von 8:30-12:30 und (mit genügend Teilnehmenden) auch am Nachmittag von 14:30-18:30 statt. Der ganze Tag ist ebenfalls möglich\, zur Einführung gibt es dafür einen ermäßigten Preis! \n12.11.2022 | 1. Teil: Material- u. Technikkunde\, Kreativübung\, Gestaltung und Oberflächengestaltung.\n09. und 10.12.2022 | 2. Teil: Die Werke sind zum ersten Mal gebrannt\, Einführung Glasur-Techniken\, Glasieren (Freitagnachmittag\, Samstagvormittag) \n„Die kommende Adventzeit mit selbstgemachten Werken aus Keramik verschönern. Ob stimmungsvolle Lichtschalen\, Duftlampen\, Sterne\, Engel\, Baumschmuck fürs gemütliche Zuhause oder liebevoll gestaltete Geschenke. Einzigartige Lieblingstassen\, Müslibowls oder Lichtschalen: Beim Entstehungsprozess unterstütze ich gerne mit meinem Fachwissen. Wir arbeiten mit einfachen\, in der Wirkung effizienten Techniken (Platten- u. Aufbautechniken)\, die individuelle\, liebenswerte Werke hervorbringen. Jedes so besonders wie die Person\, die es kreiert. Material\, Werkzeug\, Gipsformen bringe ich mit\, für Pausenkaffee und Tee ist gesorgt. Ich freue mich auf euch und eure Ideen!“ \nGeschlossene Gruppengröße max. 7 Personen\nKosten für zweiteiligen Workshop: 2 Vormittage oder 2 Nachmittage: € 85\,-\nErmäßigter Ganztagestarif (2 ganzeTage): € 160\,-\n(excl. Materialkosten\, diese betragen € 20\,-/kg für zweimal gebrannte glasierte Keramik) \nBitte um Anmeldung und Einhaltung der Covid-19-Regelungen vor Ort\, danke!\nAnfragen und Anmeldung bei Sabine Modl-Sternig | Tel 0664 5237576 | E-Mail: sabine.modl-sternig@aon.at / www.sabine-modl-sternig.com
URL:https://www.kunstbahnhofwoerthersee.at/event/zweiteiliger-keramik-workshop-mit-sabine-modl-sternig-16/
LOCATION:Kunstbahnhof Wörthersee OST\, Bahnhofplatz | ÖBB-Hausbahnsteig OST\, Velden am Wörthersee\, 9220\, Österreich
CATEGORIES:Öffentliche Veranstaltung
END:VEVENT
END:VCALENDAR