BEGIN:VCALENDAR
VERSION:2.0
PRODID:-//Kunstbahnhof Wörthersee - ECPv6.2.2//NONSGML v1.0//EN
CALSCALE:GREGORIAN
METHOD:PUBLISH
X-ORIGINAL-URL:https://www.kunstbahnhofwoerthersee.at
X-WR-CALDESC:Veranstaltungen für Kunstbahnhof Wörthersee
REFRESH-INTERVAL;VALUE=DURATION:PT1H
X-Robots-Tag:noindex
X-PUBLISHED-TTL:PT1H
BEGIN:VTIMEZONE
TZID:Europe/Paris
BEGIN:DAYLIGHT
TZOFFSETFROM:+0100
TZOFFSETTO:+0200
TZNAME:CEST
DTSTART:20220327T010000
END:DAYLIGHT
BEGIN:STANDARD
TZOFFSETFROM:+0200
TZOFFSETTO:+0100
TZNAME:CET
DTSTART:20221030T010000
END:STANDARD
END:VTIMEZONE
BEGIN:VEVENT
DTSTART;VALUE=DATE:20221014
DTEND;VALUE=DATE:20221019
DTSTAMP:20260425T013322
CREATED:20220209T075154Z
LAST-MODIFIED:20221005T093148Z
UID:2816-1665720000-1666065599@www.kunstbahnhofwoerthersee.at
SUMMARY:ART FOR THE MASSES | Pop-up-Ausstellung E. BACHINGER
DESCRIPTION:Im Rahmen der Reihe „curated by_station“ lädt der Kunstbahnhof Wörthersee zur pop-up-Ausstellung mit Arbeiten von E. BACHINGER.\nART FOR THE MASSES\nVernissage: Freitag\, 14. Oktober 2022 um 19 Uhr\nKuratorin Barbara Ambrusch-Rapp im Gespräch mit dem Künstler E. Bachinger\nPerformance von Martha Laschkolnig: Montag\, 17. Oktober 2022 um 18:30 Uhr\nKunstbahnhof Wörthersee am Veldner Hausbahnsteig\, Bahnhofplatz\, 9220 Velden am Wörthersee\nWeitere Öffnungszeiten dieser Ausstellung: Samstag\, 15. Oktober und Montag\, 17. Oktober 2022 jeweils 16 bis 19 Uhr sowie nach Vereinbarung \nDer Ausstellungs-Titel verweist schon auf den Bezugsrahmen „POP(ular) Art“ und den konzeptionellen Hintergrund der Arbeiten Bachingers. Auf den ersten Blick farbenprächtig\, in ihrem pop-expressionistischen Stil schnell zu erfassen und die Betrachtenden mit einer speziellen Ästhetisierung betörend\, offenbaren die Arbeiten von E. BACHINGER auch weitere\, tiefere Lagen. Das\, was vordergründig betrachtet leicht wirkt\, ist in einem intensiven Prozess des Ausprobierens von Techniken und des Findens einer inneren Stimmigkeit konstruiert. Sofort spürbar sind die intensive Energie und Emotionalität in Komposition\, Arbeitstechniken\, Material und Farbgebung der Werke. \nEine Veranstaltung in Kooperation mit dem Kunstverein postWERK. \nE. BACHINGER kommt (wie auch Andy Warhol oder James Rosenquist) aus der Werbung. Als Mittelschüler schon künstlerisch-akademisch sozialisiert. Studium der Betriebswirtschaft\, dann Werbeberater\, Texter\, Art- und Creative Director\, Bachinger Hoffmann Advertising\, Freischaffender Bildender Künstler. Malerei\, Fotografie\, Skulpturen\, Installationen.\nAUSBILDUNG u.a. International Summer Academy Venice: Meisterklassen von Wolf Werdigier und Karen Stuke\, Filmschnitt- und Vertonung. Die Angewandte Wien\, Studium der Theater- und Illusionsmalereimalerei bei Beate Wagner. Freie Akademie d B K Essen bei Jochem Ahmann. Artstudio Francesca Firenze\, Aktzeichnen bei Brandon Wisecarver NYC\, Japanische Kalligrafie bei Junko Baba.\nKUNSTMESSEN: Parallelaktion Kunst Wien\, ARTEXPO NYC\nGALERIEN AUSSTELLUNGEN SAMMLUNGEN u.a. Viertel9 Gallery Vienna\, Thurnhofer Vienna\, O.HO Contemporary Vienna\, Sechsschimmel Galerie Wien\, KRAS Wien\, Minuseinhalb Wien\, Galerie am Park Wien\, Galerie Sandpeck Wien\, Con Artists Showroom New York\, FAB-Gallery Santa Monica\, Mainstay Gallery Santa Monica\, TART-Galerie Villach\, Galerie Muh Aichberg\, postWERK Villach/Velden\, Sammlung VGN Wien\, AußenwirtschaftsCenter New York\, Ausstellungen in Wien\, Villach\, Venedig\, New York\, Velden\, Aichberg… \n(Abbildung: Art for the Masses (Detail) © E. BACHINGER)\nMehr Info zum Künstler: ernstbachinger.com
URL:https://www.kunstbahnhofwoerthersee.at/event/pop-up-ausstellung-artist-eb-e-bachinger/
LOCATION:Kunstbahnhof Wörthersee OST\, Bahnhofplatz | ÖBB-Hausbahnsteig OST\, Velden am Wörthersee\, 9220\, Österreich
CATEGORIES:curated by_station,Öffentliche Veranstaltung
ATTACH;FMTTYPE=image/jpeg:https://www.kunstbahnhofwoerthersee.at/wp-content/uploads/E_Bachinger_Art_for_the_masses_detail2.jpg
ORGANIZER;CN="Kunstbahnhof W%C3%B6rthersee":MAILTO:office@kunstbahnhofwoerthersee.at
END:VEVENT
END:VCALENDAR