BEGIN:VCALENDAR
VERSION:2.0
PRODID:-//Kunstbahnhof Wörthersee - ECPv6.2.2//NONSGML v1.0//EN
CALSCALE:GREGORIAN
METHOD:PUBLISH
X-ORIGINAL-URL:https://www.kunstbahnhofwoerthersee.at
X-WR-CALDESC:Veranstaltungen für Kunstbahnhof Wörthersee
REFRESH-INTERVAL;VALUE=DURATION:PT1H
X-Robots-Tag:noindex
X-PUBLISHED-TTL:PT1H
BEGIN:VTIMEZONE
TZID:Europe/Paris
BEGIN:DAYLIGHT
TZOFFSETFROM:+0100
TZOFFSETTO:+0200
TZNAME:CEST
DTSTART:20220327T010000
END:DAYLIGHT
BEGIN:STANDARD
TZOFFSETFROM:+0200
TZOFFSETTO:+0100
TZNAME:CET
DTSTART:20221030T010000
END:STANDARD
END:VTIMEZONE
BEGIN:VEVENT
DTSTART;TZID=Europe/Paris:20221009T170000
DTEND;TZID=Europe/Paris:20221009T180000
DTSTAMP:20260425T013409
CREATED:20220726T075532Z
LAST-MODIFIED:20220926T062849Z
UID:3271-1665334800-1665338400@www.kunstbahnhofwoerthersee.at
SUMMARY:Mariana - Ein Liederzyklus wegen Maria
DESCRIPTION:Maria liegt am Ende ihres Lebens. Ihr Geist rührt im trostlosen Teil der Vergangenheit. Ihr Körper rührt sich nicht mehr. Eine musikalische Momentaufnahme gegen die lange Tradition der Verschwiegenheit und für das bessere Verständnis einer Verhaltensweise\, die vom Verschwiegenen bestimmt wird.\n\n„Mariana“ ist ein Besuch in Marias Lage. Ein Versuch in mehreren Liedern.\nSonntag\, 9. Oktober 2022 um 17 Uhr im Kunstbahnhof Wörthersee\nBahnhofplatz\, 9220 Velden am Wörthersee\nEintritt: Freier Wertschätzungsbeitrag | Platzreservierung empfohlen unter 0664-9262926 oder office@kunstbahnhofwoerthersee.at \nText\, Musik\, Gesang: Birgit Radeschnig\nKontrabass\, Gesang: Mathias Krispin Bucher\nSchlagzeug\, Gesang: Florian Steinringer \nBirgit Radeschnig ist Kabarettistin (Duo RaDeschnig)\, Musikerin (Klakradl)\, Autorin\, sowie FM4 Radiokolumnistin. In ihrem ersten Liederzyklus „Mariana“ begibt sich die gebürtige Kärntnerin mit Hilfe von Musikstücken in Mundarttexten auf die Spuren einer traumatisierten Großelterngeneration.\nDer Kontrabassist Mathias Krispin Bucher studierte Jazzbass am Konservatorium Klagenfurt und bereichert als Komponist und Schauspieler die Kärntner Theaterszene (Klagenfurter Stadttheater\, Theater WalTzwerk\, KuKuKK …). Der Multiinstrumentalist schreibt eigene Stücke\, Bücher\, sowie Geschichten\, die in Gedichtform als „Liederatur“ bekannt sind.\nUnterstützt werden die beiden von Florian Steinringer am Schlagzeug. \nDieses Projekt wurde gefördert von: Land Kärnten Kultur\nFoto „Mariana“ von Stefan Grauf-Sixt (Detail)
URL:https://www.kunstbahnhofwoerthersee.at/event/radeschnig-mariana-ein-liederzyklus-wegen-maria/
LOCATION:Kunstbahnhof Wörthersee OST\, Bahnhofplatz | ÖBB-Hausbahnsteig OST\, Velden am Wörthersee\, 9220\, Österreich
CATEGORIES:curated by_station,Öffentliche Veranstaltung
ATTACH;FMTTYPE=image/jpeg:https://www.kunstbahnhofwoerthersee.at/wp-content/uploads/Pressefoto-Mariana-quer-Stefan-Grauf-Sixt-quer_cut.jpg
ORGANIZER;CN="Kunstbahnhof W%C3%B6rthersee":MAILTO:office@kunstbahnhofwoerthersee.at
END:VEVENT
END:VCALENDAR