BEGIN:VCALENDAR
VERSION:2.0
PRODID:-//Kunstbahnhof Wörthersee - ECPv6.2.2//NONSGML v1.0//EN
CALSCALE:GREGORIAN
METHOD:PUBLISH
X-ORIGINAL-URL:https://www.kunstbahnhofwoerthersee.at
X-WR-CALDESC:Veranstaltungen für Kunstbahnhof Wörthersee
REFRESH-INTERVAL;VALUE=DURATION:PT1H
X-Robots-Tag:noindex
X-PUBLISHED-TTL:PT1H
BEGIN:VTIMEZONE
TZID:Europe/Paris
BEGIN:DAYLIGHT
TZOFFSETFROM:+0100
TZOFFSETTO:+0200
TZNAME:CEST
DTSTART:20210328T010000
END:DAYLIGHT
BEGIN:STANDARD
TZOFFSETFROM:+0200
TZOFFSETTO:+0100
TZNAME:CET
DTSTART:20211031T010000
END:STANDARD
END:VTIMEZONE
BEGIN:VEVENT
DTSTART;TZID=Europe/Paris:20210818T190000
DTEND;TZID=Europe/Paris:20210818T210000
DTSTAMP:20260422T011041
CREATED:20210614T135428Z
LAST-MODIFIED:20210720T092538Z
UID:2234-1629313200-1629320400@www.kunstbahnhofwoerthersee.at
SUMMARY:Literarischer Krimi-Abend mit Christina Jonke
DESCRIPTION:Wir freuen uns sehr darüber\, die Schriftstellerin Christina Jonke erstmals am Kunstbahnhof Wörthersee zu Gast zu haben: \nKrimis am Wörthersee | Kriminelle Geschichten aus dem Herzen Kärntens\nMittwoch\, 18. August 2021 um 19 Uhr\nBitte um Anmeldung (office@kunstbahnhofwoerthersee.at oder 0664 9262926) und Einhaltung der Corona-Verordnungen (3G-Regel)\, danke!\nEintritt: Freiwilliger Wertschätzungsbeitrag \n„Die Krimis am Wörthersee sind weniger Reiseführer zu Sehenswürdigkeiten als kompakt erzählte spannende Geschichten\, die in der Umgebung des Wörthersees angesiedelt sind“\, erklärt die Autorin Christina Jonke\, dass ja jede Geschichte eine Örtlichkeit braucht\, wo die handelnden Figuren in ihr Leben verstrickt sind. Natürlich kann man auf den Spuren der in vier Einzelbänden erschienenen Krimis wandeln – die Lesereihenfolge muss nicht zwingend von 1 – 4 eingehalten werden\, ist aber wegen der Ausflüge ins turbulente Privatleben der beiden Ermittler Ben Groß und Tonja Stein durchaus ratsam. \nDer erste Band\, „Die alte Villa am See“ (Band 1)\, erschien im Oktober 2019 und erzählt von der selbsternannten Schickeria im Strandbad Klagenfurt\, „Sushi Taxi“ (Band 2) entführt von einem der wenigen Campingplätze am Wörthersee bis in eine Fälscherwerkstatt in Rosegg und in „Letzter Vorhang“ (Band 3) fällt selbiger auf der Gloriette über Pörtschach für einen schlitzohrigen aber nicht besonders sympathischen Zeitgenossen\, den Baulöwen Walter Zemmler. Der vierte Band „Hinter verschlossener Tür“ ist auf der Maiernigg-Alpe angesiedelt\, wo der erfolgreiche Steuerberater Markus Malle residiert\, der ebenso kunstsinnig wie frauenaffin ist – nur seine eigene Frau vernachlässigt er sträflich. Grund genug ihm nach dem Leben zu trachten? Jedenfalls finden die beiden Ermittler auch hier wieder jede Menge Motive und Tatverdächtige… \nDie Krimis von Christina Jonke begeben sich auf Spurensuche des allzu Menschlichen. Verrat\, Betrug\, Eifersucht und verkorkste Lebens- und Liebesgeschichten sind die Würze für Leidenschaften und ausufernde Emotionen. Die Romane lesen sich leicht und unterhaltsam\, verspricht die Autorin\, die das auch gerne bei Lesungen unter Beweis stellt. \nDie Bücher und E-Books sind in den Buchhandlungen aber auch online oder direkt bei der Autorin erhältlich.\nChristina Jonke lebt und arbeitet in Klagenfurt\, viele ihrer Theaterstücke wurden bereits im gesamten deutschsprachigen Raum gezeigt. \nWeitere Infos www.jonkeonline.at | Kontakt: office@jonkeonline.at oder 0676 3023675\nFotocredit: Jonke text & theater
URL:https://www.kunstbahnhofwoerthersee.at/event/literarischer-krimi-abend-mit-christina-jonke/
LOCATION:Kunstbahnhof Wörthersee OST\, Bahnhofplatz | ÖBB-Hausbahnsteig OST\, Velden am Wörthersee\, 9220\, Österreich
CATEGORIES:Öffentliche Veranstaltung
ATTACH;FMTTYPE=image/jpeg:https://www.kunstbahnhofwoerthersee.at/wp-content/uploads/banner-jonke-christina_w.jpg
ORGANIZER;CN="Kunstbahnhof W%C3%B6rthersee":MAILTO:office@kunstbahnhofwoerthersee.at
END:VEVENT
END:VCALENDAR