BEGIN:VCALENDAR
VERSION:2.0
PRODID:-//Kunstbahnhof Wörthersee - ECPv6.2.2//NONSGML v1.0//EN
CALSCALE:GREGORIAN
METHOD:PUBLISH
X-ORIGINAL-URL:https://www.kunstbahnhofwoerthersee.at
X-WR-CALDESC:Veranstaltungen für Kunstbahnhof Wörthersee
REFRESH-INTERVAL;VALUE=DURATION:PT1H
X-Robots-Tag:noindex
X-PUBLISHED-TTL:PT1H
BEGIN:VTIMEZONE
TZID:Europe/Paris
BEGIN:DAYLIGHT
TZOFFSETFROM:+0100
TZOFFSETTO:+0200
TZNAME:CEST
DTSTART:20210328T010000
END:DAYLIGHT
BEGIN:STANDARD
TZOFFSETFROM:+0200
TZOFFSETTO:+0100
TZNAME:CET
DTSTART:20211031T010000
END:STANDARD
END:VTIMEZONE
BEGIN:VEVENT
DTSTART;TZID=Europe/Paris:20210429T160000
DTEND;TZID=Europe/Paris:20210602T180000
DTSTAMP:20260421T143318
CREATED:20210426T172937Z
LAST-MODIFIED:20210426T173215Z
UID:2099-1619712000-1622656800@www.kunstbahnhofwoerthersee.at
SUMMARY:Rückblende zeit.čas.tempo im Künstlerhaus Klagenfurt
DESCRIPTION:Ausgewählte Ausstellungen aus der Reihe „curated by_station“ im Kunstbahnhof Wörthersee waren Teil der 2020/2021 kärntenweit stattfindenden Triennale II zeit.čas.tempo\, initiiert vom Kunstverein Kärnten. In der Zeit von Mai 2020 bis März 2021 wird dieses Thema in sämtlichen Sparten der Kunst (bildende Kunst\, Literatur\, darstellende Kunst\, Musik\, Performance\, Film etc.) erlebbar gemacht. \nAls Abschluss dieser Triennale zeigt der Kunstverein Kärnten eine Auswahl aus rund 60 Projekten im Rahmen der\nRückblende: zeit.čas.tempo\n29. April bis 2. Juni 2021\nKünstlerhaus Klagenfurt | Goethepark 1 | 9020 Klagenfurt\nkunstvereinkaernten.at | zeit-cas-tempo.at \nDas Team Kunstbahnhof Wörthersee und „curated by-Station“-Kuratorin Barbara Ambrusch-Rapp freuen sich sehr\, dass Beiträge aus folgenden Ausstellungen in diesem Rahmen im Künstlerhaus Klagenfurt präsent sind:\nLIFE. ROOMS. | Detlef Löffler\nIKONE | Kunstverein postWERK\nWARTEN | Marlies Liekfeld-Rapetti\nTIME TRAVEL | Eva Asaad\nKeine Zeit | Barbara Ambrusch-Rapp und Marcel Ambrusch \nMitte Mai erscheint der Katalog zeit.čas.tempo.
URL:https://www.kunstbahnhofwoerthersee.at/event/rueckblende-zeit-cas-tempo-im-kuenstlerhaus-klagenfurt/
LOCATION:Künstlerhaus Klagenfurt\, Goethepark 1\, Klagenfurt am Wörthersee\, 9220\, Österreich
CATEGORIES:curated by_station,Öffentliche Veranstaltung
ATTACH;FMTTYPE=image/jpeg:https://www.kunstbahnhofwoerthersee.at/wp-content/uploads/zeit-cas-tempo-banner_cut.jpg
END:VEVENT
END:VCALENDAR