BEGIN:VCALENDAR
VERSION:2.0
PRODID:-//Kunstbahnhof Wörthersee - ECPv6.2.2//NONSGML v1.0//EN
CALSCALE:GREGORIAN
METHOD:PUBLISH
X-WR-CALNAME:Kunstbahnhof Wörthersee
X-ORIGINAL-URL:https://www.kunstbahnhofwoerthersee.at
X-WR-CALDESC:Veranstaltungen für Kunstbahnhof Wörthersee
REFRESH-INTERVAL;VALUE=DURATION:PT1H
X-Robots-Tag:noindex
X-PUBLISHED-TTL:PT1H
BEGIN:VTIMEZONE
TZID:Europe/Paris
BEGIN:DAYLIGHT
TZOFFSETFROM:+0100
TZOFFSETTO:+0200
TZNAME:CEST
DTSTART:20200329T010000
END:DAYLIGHT
BEGIN:STANDARD
TZOFFSETFROM:+0200
TZOFFSETTO:+0100
TZNAME:CET
DTSTART:20201025T010000
END:STANDARD
END:VTIMEZONE
BEGIN:VEVENT
DTSTART;TZID=Europe/Paris:20200208T190000
DTEND;TZID=Europe/Paris:20200208T210000
DTSTAMP:20260424T183707
CREATED:20191125T104110Z
LAST-MODIFIED:20191125T105135Z
UID:1179-1581188400-1581195600@www.kunstbahnhofwoerthersee.at
SUMMARY:Theaterabend | Prawda. Nichts als die reine Wahrheit.
DESCRIPTION:Erinnerungen an den sowjetischen GULag nach Lev Razgon\, Evgenija Ginzburg\, Lev Kopeljev\, Alexander Solženicyn\, Artur London\, Anne Applebaum und Orlando Figes. \nTextmontage\, Inszenierung\, Ausstattung und Schauspiel:\nYulia Izmaylova und Felix Strasser\nVADA Verein zur Anregung des dramatischen Appetits\nPrawda. Nichts als die reine Wahrheit.\nSamstag\, 8. Februar 2020 um 19 Uhr \nDas Publikum wird gemeinsam mit den DarstellerInnen nach Artikel 58\, Teil 1 des Strafgesetzbuches der UdSSR von 1926 verurteilt und für 10 Jahre in ein sibirisches Arbeitslager verschickt. Der Schwerpunkt des Stückes liegt auf der Demonstration der absurden Willkür des Stalinschen Unrechtssystems\, in dem eine Geste\, ein Wort\, ein Buchstabe über Leben\, Leid oder Tod von Millionen unschuldiger Menschen entscheiden konnte. \nWie immer bei VADA gilt auch hier: Eintritt frei – Spenden willkommen!\nReservierung empfohlen: +43 664 9262926 oder office@kunstbahnhofwoerthersee.at
URL:https://www.kunstbahnhofwoerthersee.at/event/theaterabend-prawda-nichts-als-die-reine-wahrheit/
LOCATION:Kunstbahnhof Wörthersee OST\, Bahnhofplatz | ÖBB-Hausbahnsteig OST\, Velden am Wörthersee\, 9220\, Österreich
CATEGORIES:Öffentliche Veranstaltung
ATTACH;FMTTYPE=image/jpeg:https://www.kunstbahnhofwoerthersee.at/wp-content/uploads/vada_prawda_w_cut.jpg
END:VEVENT
END:VCALENDAR