BEGIN:VCALENDAR
VERSION:2.0
PRODID:-//Kunstbahnhof Wörthersee - ECPv6.2.2//NONSGML v1.0//EN
CALSCALE:GREGORIAN
METHOD:PUBLISH
X-WR-CALNAME:Kunstbahnhof Wörthersee
X-ORIGINAL-URL:https://www.kunstbahnhofwoerthersee.at
X-WR-CALDESC:Veranstaltungen für Kunstbahnhof Wörthersee
REFRESH-INTERVAL;VALUE=DURATION:PT1H
X-Robots-Tag:noindex
X-PUBLISHED-TTL:PT1H
BEGIN:VTIMEZONE
TZID:Europe/Paris
BEGIN:DAYLIGHT
TZOFFSETFROM:+0100
TZOFFSETTO:+0200
TZNAME:CEST
DTSTART:20190331T010000
END:DAYLIGHT
BEGIN:STANDARD
TZOFFSETFROM:+0200
TZOFFSETTO:+0100
TZNAME:CET
DTSTART:20191027T010000
END:STANDARD
END:VTIMEZONE
BEGIN:VEVENT
DTSTART;VALUE=DATE:20191005
DTEND;VALUE=DATE:20191009
DTSTAMP:20260425T004915
CREATED:20190129T121931Z
LAST-MODIFIED:20200220T080833Z
UID:581-1570248000-1570507199@www.kunstbahnhofwoerthersee.at
SUMMARY:ORF-Lange Nacht der Museen | Barbara Ambrusch-Rapp
DESCRIPTION:Ein Blümchen für die Zaungesellschaft \nIn dieser multimedialen pop-up-Ausstellung im Rahmen der Serie „curated by_station“ lädt Barbara Ambrusch-Rapp alle Mitreisenden dazu ein\, zwischen den Relikten ihrer Auseinandersetzung mit dem heutigen Sein zu wandeln. Die teils grotesk wirkenden Bilder und Objekte legen den Fokus auf wunde Punkte unserer Gesellschaft und laden zum Reflektieren und Diskutieren ein. \nORF-Lange Nacht der Museen\nam Samstag\, 5. Oktober 2019 von 18 bis 1 Uhr\nEintritt: Ticket ORF-Lange Nacht der Museen (auch vor Ort am Kunstbahnhof erhältlich)\nDie Künstlerin ist von 18 bis 1 Uhr anwesend \nORF-Lange Nacht der Museen-Programm:\nOne-minute-performance auf Abruf ab einer Gruppe von fünf Personen.\n20 Uhr: Lesung der Kärntner Schreiberlinge am Kunstbahnhof Wörthersee mit Marianne Fischer\, Silvia Zych und Melanie Fischer. \nKunstschiene Wörthersee | Klagenfurt + Pörtschach + Velden am Wörthersee!\nUm die Anreise zwischen den Veranstaltungsorten kurzweiliger zu gestalten\, genießen Sie in ausgewählten Zügen der S1 zwischen Klagenfurt Hbf und Villach Hbf Lesungen der „Kärntner Schreiberlinge“: Villach – Klagenfurt 17:20 – 17:56 | Klagenfurt – Villach 18:02 – 18:39 | Villach – Klagenfurt 19:20 – 19:56 | Klagenfurt – Villach 20:02 – 20:39.\nVeranstaltung in Kooperation mit ÖBB-Personenverkehr AG und Kunstverein postWERK. \nDie Ausstellung „Ein Blümchen für die Zaungesellschaft“ ist auch am\nMontag\, 7. Oktober 2019 von 17 bis 19 Uhr geöffnet\, Eintritt frei. \nBarbara Ambrusch-Rapp\, *1972 in Klagenfurt am Wörthersee\, freischaffende Multimediakünstlerin und Kulturarbeiterin\, lebt und arbeitet in Velden am Wörthersee. Mitglied in Kulturvereinen und KünstlerInnengruppen. Präsent in nationalen/internationalen Ausstellungen und im Rahmen von Kunstprojekten in den Bereichen Performance\, Theater und Fashion-Art.\nwww.barbara-rapp.com
URL:https://www.kunstbahnhofwoerthersee.at/event/orf-lange-nacht-der-museen-barbara-ambrusch-rapp/
LOCATION:Kunstbahnhof Wörthersee OST\, Bahnhofplatz | ÖBB-Hausbahnsteig OST\, Velden am Wörthersee\, 9220\, Österreich
CATEGORIES:curated by_station,Öffentliche Veranstaltung
ATTACH;FMTTYPE=image/jpeg:https://www.kunstbahnhofwoerthersee.at/wp-content/uploads/2013_kEINsystem_banner_s.jpg
ORGANIZER;CN="Kunstbahnhof W%C3%B6rthersee":MAILTO:office@kunstbahnhofwoerthersee.at
END:VEVENT
END:VCALENDAR